BEGIN:VCALENDAR
VERSION:2.0
PRODID:-//ACS Cleveland - ECPv6.15.20//NONSGML v1.0//EN
CALSCALE:GREGORIAN
METHOD:PUBLISH
X-WR-CALNAME:ACS Cleveland
X-ORIGINAL-URL:https://www.acscleveland.org
X-WR-CALDESC:Events for ACS Cleveland
REFRESH-INTERVAL;VALUE=DURATION:PT1H
X-Robots-Tag:noindex
X-PUBLISHED-TTL:PT1H
BEGIN:VTIMEZONE
TZID:America/New_York
BEGIN:DAYLIGHT
TZOFFSETFROM:-0500
TZOFFSETTO:-0400
TZNAME:EDT
DTSTART:20220313T070000
END:DAYLIGHT
BEGIN:STANDARD
TZOFFSETFROM:-0400
TZOFFSETTO:-0500
TZNAME:EST
DTSTART:20221106T060000
END:STANDARD
BEGIN:DAYLIGHT
TZOFFSETFROM:-0500
TZOFFSETTO:-0400
TZNAME:EDT
DTSTART:20230312T070000
END:DAYLIGHT
BEGIN:STANDARD
TZOFFSETFROM:-0400
TZOFFSETTO:-0500
TZNAME:EST
DTSTART:20231105T060000
END:STANDARD
BEGIN:DAYLIGHT
TZOFFSETFROM:-0500
TZOFFSETTO:-0400
TZNAME:EDT
DTSTART:20240310T070000
END:DAYLIGHT
BEGIN:STANDARD
TZOFFSETFROM:-0400
TZOFFSETTO:-0500
TZNAME:EST
DTSTART:20241103T060000
END:STANDARD
END:VTIMEZONE
BEGIN:VEVENT
DTSTART;TZID=America/New_York:20231116T170000
DTEND;TZID=America/New_York:20231116T193000
DTSTAMP:20260421T091402
CREATED:20231024T190633Z
LAST-MODIFIED:20231024T190720Z
UID:1508-1700154000-1700163000@www.acscleveland.org
SUMMARY:Thurs. Nov. 16 Exec Comm meeting and Happy Hour!
DESCRIPTION:Join us for a session of networking while enjoying handcrafted beer and cider from Bookhouse Brewing. If you would like to learn more about Cleveland ACS leadership\, join us at 5pm for the Executive Committee meeting. Happy hour will start at 6pm. wine\, spirits and food are also available for purchase. We’ll cover your first drink! \nRegistration:
URL:https://www.acscleveland.org/event/thurs-nov-16-exec-comm-meeting-and-happy-hour/
LOCATION:Bookhouse Brewing\, 1526 W25th St.\, Cleveland\, OH\, 44113\, United States
END:VEVENT
END:VCALENDAR