BEGIN:VCALENDAR
VERSION:2.0
PRODID:-//ACS Cleveland - ECPv6.15.20//NONSGML v1.0//EN
CALSCALE:GREGORIAN
METHOD:PUBLISH
X-WR-CALNAME:ACS Cleveland
X-ORIGINAL-URL:https://www.acscleveland.org
X-WR-CALDESC:Events for ACS Cleveland
REFRESH-INTERVAL;VALUE=DURATION:PT1H
X-Robots-Tag:noindex
X-PUBLISHED-TTL:PT1H
BEGIN:VTIMEZONE
TZID:America/New_York
BEGIN:DAYLIGHT
TZOFFSETFROM:-0500
TZOFFSETTO:-0400
TZNAME:EDT
DTSTART:20220313T070000
END:DAYLIGHT
BEGIN:STANDARD
TZOFFSETFROM:-0400
TZOFFSETTO:-0500
TZNAME:EST
DTSTART:20221106T060000
END:STANDARD
BEGIN:DAYLIGHT
TZOFFSETFROM:-0500
TZOFFSETTO:-0400
TZNAME:EDT
DTSTART:20230312T070000
END:DAYLIGHT
BEGIN:STANDARD
TZOFFSETFROM:-0400
TZOFFSETTO:-0500
TZNAME:EST
DTSTART:20231105T060000
END:STANDARD
BEGIN:DAYLIGHT
TZOFFSETFROM:-0500
TZOFFSETTO:-0400
TZNAME:EDT
DTSTART:20240310T070000
END:DAYLIGHT
BEGIN:STANDARD
TZOFFSETFROM:-0400
TZOFFSETTO:-0500
TZNAME:EST
DTSTART:20241103T060000
END:STANDARD
END:VTIMEZONE
BEGIN:VEVENT
DTSTART;TZID=America/New_York:20230921T173000
DTEND;TZID=America/New_York:20230921T203000
DTSTAMP:20260421T060731
CREATED:20230912T123833Z
LAST-MODIFIED:20230915T170205Z
UID:1454-1695317400-1695328200@www.acscleveland.org
SUMMARY:Cleveland-Akron Joint Meeting\, Thurs. Sept. 21\, 2023
DESCRIPTION:Join us for “Radically Re-Thinking our Raw Materials Supply Chain“. \n\n\n\nAs the tire industry strives to deliver sustainability objectives\, one major challenge will be to decouple our upstream supplies from traditional petrochemical feedstocks and diversify into renewable\, bio-sourced and recycled materials.  This presentation will investigate how Bridgestone views this challenge and how our traditional industry ecosystem\, combined with new players and new technologies can work together to deliver on those objectives.\n\n\n\nSpeakers: Ross Widenor and Ron Shaffer\, Bridgestone \nOriginally from the Pittsburgh area\, Ross received his Bachelor and Master of Science degrees in Chemical Engineering from Case Western Reserve University in Cleveland\, OH. He joined Bridgestone Americas in 2013\, and has progressed through roles in Central Research\, Raw Materials Development\, Compound Development\, Open Innovation\, and Project Management. He leads Bridgestone’s volunteer Akron Campus Green Team and chairs the Summit of Sustainability Alliance\, a collective of for-profit\, non-profit\, government\, and educational institutions interested in partnerships for sustainability. Ross also sits on the board of BProud!\, Bridgestone’s employee resource group for LGBTQ+ teammates and allies. He is active in his local community\, promoting similar values to those he champions in the workplace. \nVenue: The Brew Kettle Hudson\, 11 Atterbury Boulevard\, Hudson\, OH 44236 \n5:30pm: Social time\n6:30pm: Dinner\n7:15pm: Talk \nMenu: Cornbread\, Salad\, White cheddar Mac & Cheese\, Coleslaw\, Baked beans\, Cajun chicken pasta\, Pulled pork\, Chicken tenders\nSoft drinks are included\, as will be one beer for those of legal age\n*let us know if you have dietary restrictions. \nRegistration:
URL:https://www.acscleveland.org/event/cleveland-akron-joint-meeting-thurs-sept-21-2023/
LOCATION:The Brew Kettle\, 11 Atterbury Boulevard\, Hudson\, OH\, 44236\, United States
END:VEVENT
END:VCALENDAR